BEGIN:VCALENDAR
VERSION:2.0
PRODID:-//Hope United Church - ECPv6.6.4//NONSGML v1.0//EN
CALSCALE:GREGORIAN
METHOD:PUBLISH
X-WR-CALNAME:Hope United Church
X-ORIGINAL-URL:https://hopeunited.digitalchurch.app
X-WR-CALDESC:Events for Hope United Church
REFRESH-INTERVAL;VALUE=DURATION:PT1H
X-Robots-Tag:noindex
X-PUBLISHED-TTL:PT1H
BEGIN:VTIMEZONE
TZID:America/New_York
BEGIN:DAYLIGHT
TZOFFSETFROM:-0500
TZOFFSETTO:-0400
TZNAME:EDT
DTSTART:20280312T070000
END:DAYLIGHT
BEGIN:STANDARD
TZOFFSETFROM:-0400
TZOFFSETTO:-0500
TZNAME:EST
DTSTART:20281105T060000
END:STANDARD
END:VTIMEZONE
BEGIN:VEVENT
DTSTART;TZID=America/New_York:20280319T110000
DTEND;TZID=America/New_York:20280319T123000
DTSTAMP:20260419T114315
CREATED:20220819T152311Z
LAST-MODIFIED:20220819T152311Z
UID:11556-1837076400-1837081800@hopeunited.digitalchurch.app
SUMMARY:Sunday morning Worship!
DESCRIPTION:
URL:https://hopeunited.digitalchurch.app/event/sunday-morning-worship/2028-03-19/
LOCATION:Sanctuary\, 499 Trebisky Rd\, Richmond Heights\, OH\, 44143\, United States
END:VEVENT
BEGIN:VEVENT
DTSTART;TZID=America/New_York:20280322T180000
DTEND;TZID=America/New_York:20280322T193000
DTSTAMP:20260419T114315
CREATED:20220819T152823Z
LAST-MODIFIED:20220819T152823Z
UID:11557-1837360800-1837366200@hopeunited.digitalchurch.app
SUMMARY:THE TABLE
DESCRIPTION:Dinner at 6 pm and a bible study that starts at 6:30 for all age groups.  Kids\, Teens\, and Adults! Great for families
URL:https://hopeunited.digitalchurch.app/event/the-table/2028-03-22/
END:VEVENT
BEGIN:VEVENT
DTSTART;TZID=America/New_York:20280326T110000
DTEND;TZID=America/New_York:20280326T123000
DTSTAMP:20260419T114315
CREATED:20220819T152311Z
LAST-MODIFIED:20220819T152311Z
UID:11558-1837681200-1837686600@hopeunited.digitalchurch.app
SUMMARY:Sunday morning Worship!
DESCRIPTION:
URL:https://hopeunited.digitalchurch.app/event/sunday-morning-worship/2028-03-26/
LOCATION:Sanctuary\, 499 Trebisky Rd\, Richmond Heights\, OH\, 44143\, United States
END:VEVENT
BEGIN:VEVENT
DTSTART;TZID=America/New_York:20280329T180000
DTEND;TZID=America/New_York:20280329T193000
DTSTAMP:20260419T114315
CREATED:20220819T152823Z
LAST-MODIFIED:20220819T152823Z
UID:11559-1837965600-1837971000@hopeunited.digitalchurch.app
SUMMARY:THE TABLE
DESCRIPTION:Dinner at 6 pm and a bible study that starts at 6:30 for all age groups.  Kids\, Teens\, and Adults! Great for families
URL:https://hopeunited.digitalchurch.app/event/the-table/2028-03-29/
END:VEVENT
BEGIN:VEVENT
DTSTART;TZID=America/New_York:20280402T110000
DTEND;TZID=America/New_York:20280402T123000
DTSTAMP:20260419T114315
CREATED:20220819T152311Z
LAST-MODIFIED:20220819T152311Z
UID:11560-1838286000-1838291400@hopeunited.digitalchurch.app
SUMMARY:Sunday morning Worship!
DESCRIPTION:
URL:https://hopeunited.digitalchurch.app/event/sunday-morning-worship/2028-04-02/
LOCATION:Sanctuary\, 499 Trebisky Rd\, Richmond Heights\, OH\, 44143\, United States
END:VEVENT
BEGIN:VEVENT
DTSTART;TZID=America/New_York:20280405T180000
DTEND;TZID=America/New_York:20280405T193000
DTSTAMP:20260419T114315
CREATED:20220819T152823Z
LAST-MODIFIED:20220819T152823Z
UID:11561-1838570400-1838575800@hopeunited.digitalchurch.app
SUMMARY:THE TABLE
DESCRIPTION:Dinner at 6 pm and a bible study that starts at 6:30 for all age groups.  Kids\, Teens\, and Adults! Great for families
URL:https://hopeunited.digitalchurch.app/event/the-table/2028-04-05/
END:VEVENT
BEGIN:VEVENT
DTSTART;TZID=America/New_York:20280409T110000
DTEND;TZID=America/New_York:20280409T123000
DTSTAMP:20260419T114315
CREATED:20220819T152311Z
LAST-MODIFIED:20220819T152311Z
UID:11562-1838890800-1838896200@hopeunited.digitalchurch.app
SUMMARY:Sunday morning Worship!
DESCRIPTION:
URL:https://hopeunited.digitalchurch.app/event/sunday-morning-worship/2028-04-09/
LOCATION:Sanctuary\, 499 Trebisky Rd\, Richmond Heights\, OH\, 44143\, United States
END:VEVENT
BEGIN:VEVENT
DTSTART;TZID=America/New_York:20280412T180000
DTEND;TZID=America/New_York:20280412T193000
DTSTAMP:20260419T114315
CREATED:20220819T152823Z
LAST-MODIFIED:20220819T152823Z
UID:11563-1839175200-1839180600@hopeunited.digitalchurch.app
SUMMARY:THE TABLE
DESCRIPTION:Dinner at 6 pm and a bible study that starts at 6:30 for all age groups.  Kids\, Teens\, and Adults! Great for families
URL:https://hopeunited.digitalchurch.app/event/the-table/2028-04-12/
END:VEVENT
BEGIN:VEVENT
DTSTART;TZID=America/New_York:20280416T110000
DTEND;TZID=America/New_York:20280416T123000
DTSTAMP:20260419T114315
CREATED:20220819T152311Z
LAST-MODIFIED:20220819T152311Z
UID:11564-1839495600-1839501000@hopeunited.digitalchurch.app
SUMMARY:Sunday morning Worship!
DESCRIPTION:
URL:https://hopeunited.digitalchurch.app/event/sunday-morning-worship/2028-04-16/
LOCATION:Sanctuary\, 499 Trebisky Rd\, Richmond Heights\, OH\, 44143\, United States
END:VEVENT
END:VCALENDAR