BEGIN:VCALENDAR
VERSION:2.0
PRODID:-//Hope United Church - ECPv6.6.4//NONSGML v1.0//EN
CALSCALE:GREGORIAN
METHOD:PUBLISH
X-ORIGINAL-URL:https://hopeunited.digitalchurch.app
X-WR-CALDESC:Events for Hope United Church
REFRESH-INTERVAL;VALUE=DURATION:PT1H
X-Robots-Tag:noindex
X-PUBLISHED-TTL:PT1H
BEGIN:VTIMEZONE
TZID:America/New_York
BEGIN:DAYLIGHT
TZOFFSETFROM:-0500
TZOFFSETTO:-0400
TZNAME:EDT
DTSTART:20240310T070000
END:DAYLIGHT
BEGIN:STANDARD
TZOFFSETFROM:-0400
TZOFFSETTO:-0500
TZNAME:EST
DTSTART:20241103T060000
END:STANDARD
END:VTIMEZONE
BEGIN:VEVENT
DTSTART;TZID=America/New_York:20241103T110000
DTEND;TZID=America/New_York:20241103T123000
DTSTAMP:20260421T181023
CREATED:20220819T152311Z
LAST-MODIFIED:20220819T152311Z
UID:10265-1730631600-1730637000@hopeunited.digitalchurch.app
SUMMARY:Sunday morning Worship!
DESCRIPTION:
URL:https://hopeunited.digitalchurch.app/event/sunday-morning-worship/2024-11-03/
LOCATION:Sanctuary\, 499 Trebisky Rd\, Richmond Heights\, OH\, 44143\, United States
END:VEVENT
BEGIN:VEVENT
DTSTART;TZID=America/New_York:20241106T180000
DTEND;TZID=America/New_York:20241106T193000
DTSTAMP:20260421T181023
CREATED:20220819T152823Z
LAST-MODIFIED:20220819T152823Z
UID:10266-1730916000-1730921400@hopeunited.digitalchurch.app
SUMMARY:THE TABLE
DESCRIPTION:Dinner at 6 pm and a bible study that starts at 6:30 for all age groups.  Kids\, Teens\, and Adults! Great for families
URL:https://hopeunited.digitalchurch.app/event/the-table/2024-11-06/
END:VEVENT
BEGIN:VEVENT
DTSTART;TZID=America/New_York:20241110T110000
DTEND;TZID=America/New_York:20241110T123000
DTSTAMP:20260421T181023
CREATED:20220819T152311Z
LAST-MODIFIED:20220819T152311Z
UID:10267-1731236400-1731241800@hopeunited.digitalchurch.app
SUMMARY:Sunday morning Worship!
DESCRIPTION:
URL:https://hopeunited.digitalchurch.app/event/sunday-morning-worship/2024-11-10/
LOCATION:Sanctuary\, 499 Trebisky Rd\, Richmond Heights\, OH\, 44143\, United States
END:VEVENT
BEGIN:VEVENT
DTSTART;TZID=America/New_York:20241113T180000
DTEND;TZID=America/New_York:20241113T193000
DTSTAMP:20260421T181023
CREATED:20220819T152823Z
LAST-MODIFIED:20220819T152823Z
UID:10270-1731520800-1731526200@hopeunited.digitalchurch.app
SUMMARY:THE TABLE
DESCRIPTION:Dinner at 6 pm and a bible study that starts at 6:30 for all age groups.  Kids\, Teens\, and Adults! Great for families
URL:https://hopeunited.digitalchurch.app/event/the-table/2024-11-13/
END:VEVENT
BEGIN:VEVENT
DTSTART;TZID=America/New_York:20241117T110000
DTEND;TZID=America/New_York:20241117T123000
DTSTAMP:20260421T181023
CREATED:20220819T152311Z
LAST-MODIFIED:20220819T152311Z
UID:10268-1731841200-1731846600@hopeunited.digitalchurch.app
SUMMARY:Sunday morning Worship!
DESCRIPTION:
URL:https://hopeunited.digitalchurch.app/event/sunday-morning-worship/2024-11-17/
LOCATION:Sanctuary\, 499 Trebisky Rd\, Richmond Heights\, OH\, 44143\, United States
END:VEVENT
BEGIN:VEVENT
DTSTART;TZID=America/New_York:20241120T180000
DTEND;TZID=America/New_York:20241120T193000
DTSTAMP:20260421T181023
CREATED:20220819T152823Z
LAST-MODIFIED:20220819T152823Z
UID:10271-1732125600-1732131000@hopeunited.digitalchurch.app
SUMMARY:THE TABLE
DESCRIPTION:Dinner at 6 pm and a bible study that starts at 6:30 for all age groups.  Kids\, Teens\, and Adults! Great for families
URL:https://hopeunited.digitalchurch.app/event/the-table/2024-11-20/
END:VEVENT
BEGIN:VEVENT
DTSTART;TZID=America/New_York:20241124T110000
DTEND;TZID=America/New_York:20241124T123000
DTSTAMP:20260421T181023
CREATED:20220819T152311Z
LAST-MODIFIED:20220819T152311Z
UID:10269-1732446000-1732451400@hopeunited.digitalchurch.app
SUMMARY:Sunday morning Worship!
DESCRIPTION:
URL:https://hopeunited.digitalchurch.app/event/sunday-morning-worship/2024-11-24/
LOCATION:Sanctuary\, 499 Trebisky Rd\, Richmond Heights\, OH\, 44143\, United States
END:VEVENT
BEGIN:VEVENT
DTSTART;TZID=America/New_York:20241124T180000
DTEND;TZID=America/New_York:20241124T193000
DTSTAMP:20260421T181023
CREATED:20241120T192514Z
LAST-MODIFIED:20241120T192514Z
UID:11352-1732471200-1732476600@hopeunited.digitalchurch.app
SUMMARY:Thanksgiving Dinner
DESCRIPTION:Join us for a free Thanksgiving Dinner for the family.  Starts at 6 pm.  If you do not have plans for Thanksgiving\, you do now!
URL:https://hopeunited.digitalchurch.app/event/thanksgiving-dinner/
LOCATION:Fellowship Hall\, 499 Trebisky Rd\, Richmond Heights\, OH\, 44143
END:VEVENT
BEGIN:VEVENT
DTSTART;TZID=America/New_York:20241127T180000
DTEND;TZID=America/New_York:20241127T193000
DTSTAMP:20260421T181023
CREATED:20220819T152823Z
LAST-MODIFIED:20220819T152823Z
UID:10272-1732730400-1732735800@hopeunited.digitalchurch.app
SUMMARY:THE TABLE
DESCRIPTION:Dinner at 6 pm and a bible study that starts at 6:30 for all age groups.  Kids\, Teens\, and Adults! Great for families
URL:https://hopeunited.digitalchurch.app/event/the-table/2024-11-27/
END:VEVENT
END:VCALENDAR