BEGIN:VCALENDAR
VERSION:2.0
PRODID:-//Hope United Church - ECPv6.6.4//NONSGML v1.0//EN
CALSCALE:GREGORIAN
METHOD:PUBLISH
X-WR-CALNAME:Hope United Church
X-ORIGINAL-URL:https://hopeunited.digitalchurch.app
X-WR-CALDESC:Events for Hope United Church
REFRESH-INTERVAL;VALUE=DURATION:PT1H
X-Robots-Tag:noindex
X-PUBLISHED-TTL:PT1H
BEGIN:VTIMEZONE
TZID:America/New_York
BEGIN:DAYLIGHT
TZOFFSETFROM:-0500
TZOFFSETTO:-0400
TZNAME:EDT
DTSTART:20240310T070000
END:DAYLIGHT
BEGIN:STANDARD
TZOFFSETFROM:-0400
TZOFFSETTO:-0500
TZNAME:EST
DTSTART:20241103T060000
END:STANDARD
END:VTIMEZONE
BEGIN:VEVENT
DTSTART;TZID=America/New_York:20241201T110000
DTEND;TZID=America/New_York:20241201T123000
DTSTAMP:20260421T113845
CREATED:20220819T152311Z
LAST-MODIFIED:20220819T152311Z
UID:10273-1733050800-1733056200@hopeunited.digitalchurch.app
SUMMARY:Sunday morning Worship!
DESCRIPTION:
URL:https://hopeunited.digitalchurch.app/event/sunday-morning-worship/2024-12-01/
LOCATION:Sanctuary\, 499 Trebisky Rd\, Richmond Heights\, OH\, 44143\, United States
END:VEVENT
BEGIN:VEVENT
DTSTART;TZID=America/New_York:20241204T180000
DTEND;TZID=America/New_York:20241204T193000
DTSTAMP:20260421T113845
CREATED:20220819T152823Z
LAST-MODIFIED:20220819T152823Z
UID:10275-1733335200-1733340600@hopeunited.digitalchurch.app
SUMMARY:THE TABLE
DESCRIPTION:Dinner at 6 pm and a bible study that starts at 6:30 for all age groups.  Kids\, Teens\, and Adults! Great for families
URL:https://hopeunited.digitalchurch.app/event/the-table/2024-12-04/
END:VEVENT
BEGIN:VEVENT
DTSTART;TZID=America/New_York:20241208T110000
DTEND;TZID=America/New_York:20241208T123000
DTSTAMP:20260421T113845
CREATED:20220819T152311Z
LAST-MODIFIED:20220819T152311Z
UID:10274-1733655600-1733661000@hopeunited.digitalchurch.app
SUMMARY:Sunday morning Worship!
DESCRIPTION:
URL:https://hopeunited.digitalchurch.app/event/sunday-morning-worship/2024-12-08/
LOCATION:Sanctuary\, 499 Trebisky Rd\, Richmond Heights\, OH\, 44143\, United States
END:VEVENT
BEGIN:VEVENT
DTSTART;TZID=America/New_York:20241211T180000
DTEND;TZID=America/New_York:20241211T193000
DTSTAMP:20260421T113845
CREATED:20220819T152823Z
LAST-MODIFIED:20220819T152823Z
UID:10276-1733940000-1733945400@hopeunited.digitalchurch.app
SUMMARY:THE TABLE
DESCRIPTION:Dinner at 6 pm and a bible study that starts at 6:30 for all age groups.  Kids\, Teens\, and Adults! Great for families
URL:https://hopeunited.digitalchurch.app/event/the-table/2024-12-11/
END:VEVENT
BEGIN:VEVENT
DTSTART;TZID=America/New_York:20241215T110000
DTEND;TZID=America/New_York:20241215T123000
DTSTAMP:20260421T113845
CREATED:20220819T152311Z
LAST-MODIFIED:20220819T152311Z
UID:10278-1734260400-1734265800@hopeunited.digitalchurch.app
SUMMARY:Sunday morning Worship!
DESCRIPTION:
URL:https://hopeunited.digitalchurch.app/event/sunday-morning-worship/2024-12-15/
LOCATION:Sanctuary\, 499 Trebisky Rd\, Richmond Heights\, OH\, 44143\, United States
END:VEVENT
BEGIN:VEVENT
DTSTART;TZID=America/New_York:20241218T180000
DTEND;TZID=America/New_York:20241218T193000
DTSTAMP:20260421T113845
CREATED:20220819T152823Z
LAST-MODIFIED:20220819T152823Z
UID:10279-1734544800-1734550200@hopeunited.digitalchurch.app
SUMMARY:THE TABLE
DESCRIPTION:Dinner at 6 pm and a bible study that starts at 6:30 for all age groups.  Kids\, Teens\, and Adults! Great for families
URL:https://hopeunited.digitalchurch.app/event/the-table/2024-12-18/
END:VEVENT
BEGIN:VEVENT
DTSTART;TZID=America/New_York:20241222T110000
DTEND;TZID=America/New_York:20241222T123000
DTSTAMP:20260421T113845
CREATED:20220819T152311Z
LAST-MODIFIED:20220819T152311Z
UID:10280-1734865200-1734870600@hopeunited.digitalchurch.app
SUMMARY:Sunday morning Worship!
DESCRIPTION:
URL:https://hopeunited.digitalchurch.app/event/sunday-morning-worship/2024-12-22/
LOCATION:Sanctuary\, 499 Trebisky Rd\, Richmond Heights\, OH\, 44143\, United States
END:VEVENT
BEGIN:VEVENT
DTSTART;TZID=America/New_York:20241224T180000
DTEND;TZID=America/New_York:20241224T190000
DTSTAMP:20260421T113845
CREATED:20231215T224145Z
LAST-MODIFIED:20241121T194738Z
UID:10905-1735063200-1735066800@hopeunited.digitalchurch.app
SUMMARY:Christmas Eve Candlelight
DESCRIPTION:We invite you to join us for a Christmas Eve service with great Christmas songs\, an encouraging word that will bring hope to the season\, and ending with a Candlelight celebration.  The service will be 1 hour long.
URL:https://hopeunited.digitalchurch.app/event/christmas-eve-candlelight/
LOCATION:Sanctuary\, 499 Trebisky Rd\, Richmond Heights\, OH\, 44143\, United States
END:VEVENT
BEGIN:VEVENT
DTSTART;TZID=America/New_York:20241224T180000
DTEND;TZID=America/New_York:20241224T190000
DTSTAMP:20260421T113845
CREATED:20241224T192650Z
LAST-MODIFIED:20241120T194753Z
UID:11355-1735063200-1735066800@hopeunited.digitalchurch.app
SUMMARY:Christmas Eve Candlelight Service
DESCRIPTION:Join us as we celebrate the Birth of Jesus Dec. 24 @ 6 pm.  Don’t miss the candlelight celebration at the end!  We will have cookies and hot chocolate too!
URL:https://hopeunited.digitalchurch.app/event/christmas-eve-candlelight-service/
END:VEVENT
BEGIN:VEVENT
DTSTART;TZID=America/New_York:20241225T180000
DTEND;TZID=America/New_York:20241225T193000
DTSTAMP:20260421T113845
CREATED:20220819T152823Z
LAST-MODIFIED:20220819T152823Z
UID:10282-1735149600-1735155000@hopeunited.digitalchurch.app
SUMMARY:THE TABLE
DESCRIPTION:Dinner at 6 pm and a bible study that starts at 6:30 for all age groups.  Kids\, Teens\, and Adults! Great for families
URL:https://hopeunited.digitalchurch.app/event/the-table/2024-12-25/
END:VEVENT
BEGIN:VEVENT
DTSTART;TZID=America/New_York:20241229T110000
DTEND;TZID=America/New_York:20241229T123000
DTSTAMP:20260421T113845
CREATED:20220819T152311Z
LAST-MODIFIED:20220819T152311Z
UID:10281-1735470000-1735475400@hopeunited.digitalchurch.app
SUMMARY:Sunday morning Worship!
DESCRIPTION:
URL:https://hopeunited.digitalchurch.app/event/sunday-morning-worship/2024-12-29/
LOCATION:Sanctuary\, 499 Trebisky Rd\, Richmond Heights\, OH\, 44143\, United States
END:VEVENT
END:VCALENDAR