BEGIN:VCALENDAR
VERSION:2.0
PRODID:-//Hope United Church - ECPv6.6.4//NONSGML v1.0//EN
CALSCALE:GREGORIAN
METHOD:PUBLISH
X-ORIGINAL-URL:https://hopeunited.digitalchurch.app
X-WR-CALDESC:Events for Hope United Church
REFRESH-INTERVAL;VALUE=DURATION:PT1H
X-Robots-Tag:noindex
X-PUBLISHED-TTL:PT1H
BEGIN:VTIMEZONE
TZID:America/New_York
BEGIN:DAYLIGHT
TZOFFSETFROM:-0500
TZOFFSETTO:-0400
TZNAME:EDT
DTSTART:20250309T070000
END:DAYLIGHT
BEGIN:STANDARD
TZOFFSETFROM:-0400
TZOFFSETTO:-0500
TZNAME:EST
DTSTART:20251102T060000
END:STANDARD
END:VTIMEZONE
BEGIN:VEVENT
DTSTART;TZID=America/New_York:20250504T110000
DTEND;TZID=America/New_York:20250504T123000
DTSTAMP:20260420T071457
CREATED:20220819T152311Z
LAST-MODIFIED:20220819T152311Z
UID:10740-1746356400-1746361800@hopeunited.digitalchurch.app
SUMMARY:Sunday morning Worship!
DESCRIPTION:
URL:https://hopeunited.digitalchurch.app/event/sunday-morning-worship/2025-05-04/
LOCATION:Sanctuary\, 499 Trebisky Rd\, Richmond Heights\, OH\, 44143\, United States
END:VEVENT
BEGIN:VEVENT
DTSTART;TZID=America/New_York:20250507T180000
DTEND;TZID=America/New_York:20250507T193000
DTSTAMP:20260420T071457
CREATED:20220819T152823Z
LAST-MODIFIED:20220819T152823Z
UID:10743-1746640800-1746646200@hopeunited.digitalchurch.app
SUMMARY:THE TABLE
DESCRIPTION:Dinner at 6 pm and a bible study that starts at 6:30 for all age groups.  Kids\, Teens\, and Adults! Great for families
URL:https://hopeunited.digitalchurch.app/event/the-table/2025-05-07/
END:VEVENT
BEGIN:VEVENT
DTSTART;TZID=America/New_York:20250511T110000
DTEND;TZID=America/New_York:20250511T123000
DTSTAMP:20260420T071457
CREATED:20220819T152311Z
LAST-MODIFIED:20220819T152311Z
UID:10745-1746961200-1746966600@hopeunited.digitalchurch.app
SUMMARY:Sunday morning Worship!
DESCRIPTION:
URL:https://hopeunited.digitalchurch.app/event/sunday-morning-worship/2025-05-11/
LOCATION:Sanctuary\, 499 Trebisky Rd\, Richmond Heights\, OH\, 44143\, United States
END:VEVENT
BEGIN:VEVENT
DTSTART;TZID=America/New_York:20250514T180000
DTEND;TZID=America/New_York:20250514T193000
DTSTAMP:20260420T071457
CREATED:20220819T152823Z
LAST-MODIFIED:20220819T152823Z
UID:10746-1747245600-1747251000@hopeunited.digitalchurch.app
SUMMARY:THE TABLE
DESCRIPTION:Dinner at 6 pm and a bible study that starts at 6:30 for all age groups.  Kids\, Teens\, and Adults! Great for families
URL:https://hopeunited.digitalchurch.app/event/the-table/2025-05-14/
END:VEVENT
BEGIN:VEVENT
DTSTART;TZID=America/New_York:20250518T110000
DTEND;TZID=America/New_York:20250518T123000
DTSTAMP:20260420T071457
CREATED:20220819T152311Z
LAST-MODIFIED:20220819T152311Z
UID:10747-1747566000-1747571400@hopeunited.digitalchurch.app
SUMMARY:Sunday morning Worship!
DESCRIPTION:
URL:https://hopeunited.digitalchurch.app/event/sunday-morning-worship/2025-05-18/
LOCATION:Sanctuary\, 499 Trebisky Rd\, Richmond Heights\, OH\, 44143\, United States
END:VEVENT
BEGIN:VEVENT
DTSTART;TZID=America/New_York:20250521T180000
DTEND;TZID=America/New_York:20250521T193000
DTSTAMP:20260420T071457
CREATED:20220819T152823Z
LAST-MODIFIED:20220819T152823Z
UID:10748-1747850400-1747855800@hopeunited.digitalchurch.app
SUMMARY:THE TABLE
DESCRIPTION:Dinner at 6 pm and a bible study that starts at 6:30 for all age groups.  Kids\, Teens\, and Adults! Great for families
URL:https://hopeunited.digitalchurch.app/event/the-table/2025-05-21/
END:VEVENT
BEGIN:VEVENT
DTSTART;TZID=America/New_York:20250525T110000
DTEND;TZID=America/New_York:20250525T123000
DTSTAMP:20260420T071457
CREATED:20220819T152311Z
LAST-MODIFIED:20220819T152311Z
UID:10749-1748170800-1748176200@hopeunited.digitalchurch.app
SUMMARY:Sunday morning Worship!
DESCRIPTION:
URL:https://hopeunited.digitalchurch.app/event/sunday-morning-worship/2025-05-25/
LOCATION:Sanctuary\, 499 Trebisky Rd\, Richmond Heights\, OH\, 44143\, United States
END:VEVENT
BEGIN:VEVENT
DTSTART;TZID=America/New_York:20250528T180000
DTEND;TZID=America/New_York:20250528T193000
DTSTAMP:20260420T071457
CREATED:20220819T152823Z
LAST-MODIFIED:20220819T152823Z
UID:10750-1748455200-1748460600@hopeunited.digitalchurch.app
SUMMARY:THE TABLE
DESCRIPTION:Dinner at 6 pm and a bible study that starts at 6:30 for all age groups.  Kids\, Teens\, and Adults! Great for families
URL:https://hopeunited.digitalchurch.app/event/the-table/2025-05-28/
END:VEVENT
END:VCALENDAR