BEGIN:VCALENDAR
VERSION:2.0
PRODID:-//Hope United Church - ECPv6.6.4//NONSGML v1.0//EN
CALSCALE:GREGORIAN
METHOD:PUBLISH
X-ORIGINAL-URL:https://hopeunited.digitalchurch.app
X-WR-CALDESC:Events for Hope United Church
REFRESH-INTERVAL;VALUE=DURATION:PT1H
X-Robots-Tag:noindex
X-PUBLISHED-TTL:PT1H
BEGIN:VTIMEZONE
TZID:America/New_York
BEGIN:DAYLIGHT
TZOFFSETFROM:-0500
TZOFFSETTO:-0400
TZNAME:EDT
DTSTART:20270314T070000
END:DAYLIGHT
BEGIN:STANDARD
TZOFFSETFROM:-0400
TZOFFSETTO:-0500
TZNAME:EST
DTSTART:20271107T060000
END:STANDARD
END:VTIMEZONE
BEGIN:VEVENT
DTSTART;TZID=America/New_York:20270602T180000
DTEND;TZID=America/New_York:20270602T193000
DTSTAMP:20260420T181205
CREATED:20220819T152823Z
LAST-MODIFIED:20220819T152823Z
UID:11473-1811959200-1811964600@hopeunited.digitalchurch.app
SUMMARY:THE TABLE
DESCRIPTION:Dinner at 6 pm and a bible study that starts at 6:30 for all age groups.  Kids\, Teens\, and Adults! Great for families
URL:https://hopeunited.digitalchurch.app/event/the-table/2027-06-02/
END:VEVENT
BEGIN:VEVENT
DTSTART;TZID=America/New_York:20270606T110000
DTEND;TZID=America/New_York:20270606T123000
DTSTAMP:20260420T181205
CREATED:20220819T152311Z
LAST-MODIFIED:20220819T152311Z
UID:11474-1812279600-1812285000@hopeunited.digitalchurch.app
SUMMARY:Sunday morning Worship!
DESCRIPTION:
URL:https://hopeunited.digitalchurch.app/event/sunday-morning-worship/2027-06-06/
LOCATION:Sanctuary\, 499 Trebisky Rd\, Richmond Heights\, OH\, 44143\, United States
END:VEVENT
BEGIN:VEVENT
DTSTART;TZID=America/New_York:20270609T180000
DTEND;TZID=America/New_York:20270609T193000
DTSTAMP:20260420T181205
CREATED:20220819T152823Z
LAST-MODIFIED:20220819T152823Z
UID:11475-1812564000-1812569400@hopeunited.digitalchurch.app
SUMMARY:THE TABLE
DESCRIPTION:Dinner at 6 pm and a bible study that starts at 6:30 for all age groups.  Kids\, Teens\, and Adults! Great for families
URL:https://hopeunited.digitalchurch.app/event/the-table/2027-06-09/
END:VEVENT
BEGIN:VEVENT
DTSTART;TZID=America/New_York:20270613T110000
DTEND;TZID=America/New_York:20270613T123000
DTSTAMP:20260420T181205
CREATED:20220819T152311Z
LAST-MODIFIED:20220819T152311Z
UID:11476-1812884400-1812889800@hopeunited.digitalchurch.app
SUMMARY:Sunday morning Worship!
DESCRIPTION:
URL:https://hopeunited.digitalchurch.app/event/sunday-morning-worship/2027-06-13/
LOCATION:Sanctuary\, 499 Trebisky Rd\, Richmond Heights\, OH\, 44143\, United States
END:VEVENT
BEGIN:VEVENT
DTSTART;TZID=America/New_York:20270616T180000
DTEND;TZID=America/New_York:20270616T193000
DTSTAMP:20260420T181205
CREATED:20220819T152823Z
LAST-MODIFIED:20220819T152823Z
UID:11477-1813168800-1813174200@hopeunited.digitalchurch.app
SUMMARY:THE TABLE
DESCRIPTION:Dinner at 6 pm and a bible study that starts at 6:30 for all age groups.  Kids\, Teens\, and Adults! Great for families
URL:https://hopeunited.digitalchurch.app/event/the-table/2027-06-16/
END:VEVENT
BEGIN:VEVENT
DTSTART;TZID=America/New_York:20270620T110000
DTEND;TZID=America/New_York:20270620T123000
DTSTAMP:20260420T181205
CREATED:20220819T152311Z
LAST-MODIFIED:20220819T152311Z
UID:11478-1813489200-1813494600@hopeunited.digitalchurch.app
SUMMARY:Sunday morning Worship!
DESCRIPTION:
URL:https://hopeunited.digitalchurch.app/event/sunday-morning-worship/2027-06-20/
LOCATION:Sanctuary\, 499 Trebisky Rd\, Richmond Heights\, OH\, 44143\, United States
END:VEVENT
BEGIN:VEVENT
DTSTART;TZID=America/New_York:20270623T180000
DTEND;TZID=America/New_York:20270623T193000
DTSTAMP:20260420T181205
CREATED:20220819T152823Z
LAST-MODIFIED:20220819T152823Z
UID:11479-1813773600-1813779000@hopeunited.digitalchurch.app
SUMMARY:THE TABLE
DESCRIPTION:Dinner at 6 pm and a bible study that starts at 6:30 for all age groups.  Kids\, Teens\, and Adults! Great for families
URL:https://hopeunited.digitalchurch.app/event/the-table/2027-06-23/
END:VEVENT
BEGIN:VEVENT
DTSTART;TZID=America/New_York:20270627T110000
DTEND;TZID=America/New_York:20270627T123000
DTSTAMP:20260420T181205
CREATED:20220819T152311Z
LAST-MODIFIED:20220819T152311Z
UID:11480-1814094000-1814099400@hopeunited.digitalchurch.app
SUMMARY:Sunday morning Worship!
DESCRIPTION:
URL:https://hopeunited.digitalchurch.app/event/sunday-morning-worship/2027-06-27/
LOCATION:Sanctuary\, 499 Trebisky Rd\, Richmond Heights\, OH\, 44143\, United States
END:VEVENT
BEGIN:VEVENT
DTSTART;TZID=America/New_York:20270630T180000
DTEND;TZID=America/New_York:20270630T193000
DTSTAMP:20260420T181205
CREATED:20220819T152823Z
LAST-MODIFIED:20220819T152823Z
UID:11481-1814378400-1814383800@hopeunited.digitalchurch.app
SUMMARY:THE TABLE
DESCRIPTION:Dinner at 6 pm and a bible study that starts at 6:30 for all age groups.  Kids\, Teens\, and Adults! Great for families
URL:https://hopeunited.digitalchurch.app/event/the-table/2027-06-30/
END:VEVENT
END:VCALENDAR