BEGIN:VCALENDAR
VERSION:2.0
PRODID:-//Hope United Church - ECPv6.6.4//NONSGML v1.0//EN
CALSCALE:GREGORIAN
METHOD:PUBLISH
X-WR-CALNAME:Hope United Church
X-ORIGINAL-URL:https://hopeunited.digitalchurch.app
X-WR-CALDESC:Events for Hope United Church
REFRESH-INTERVAL;VALUE=DURATION:PT1H
X-Robots-Tag:noindex
X-PUBLISHED-TTL:PT1H
BEGIN:VTIMEZONE
TZID:America/New_York
BEGIN:DAYLIGHT
TZOFFSETFROM:-0500
TZOFFSETTO:-0400
TZNAME:EDT
DTSTART:20270314T070000
END:DAYLIGHT
BEGIN:STANDARD
TZOFFSETFROM:-0400
TZOFFSETTO:-0500
TZNAME:EST
DTSTART:20271107T060000
END:STANDARD
END:VTIMEZONE
BEGIN:VEVENT
DTSTART;TZID=America/New_York:20270704T110000
DTEND;TZID=America/New_York:20270704T123000
DTSTAMP:20260420T180301
CREATED:20220819T152311Z
LAST-MODIFIED:20220819T152311Z
UID:11482-1814698800-1814704200@hopeunited.digitalchurch.app
SUMMARY:Sunday morning Worship!
DESCRIPTION:
URL:https://hopeunited.digitalchurch.app/event/sunday-morning-worship/2027-07-04/
LOCATION:Sanctuary\, 499 Trebisky Rd\, Richmond Heights\, OH\, 44143\, United States
END:VEVENT
BEGIN:VEVENT
DTSTART;TZID=America/New_York:20270707T180000
DTEND;TZID=America/New_York:20270707T193000
DTSTAMP:20260420T180301
CREATED:20220819T152823Z
LAST-MODIFIED:20220819T152823Z
UID:11483-1814983200-1814988600@hopeunited.digitalchurch.app
SUMMARY:THE TABLE
DESCRIPTION:Dinner at 6 pm and a bible study that starts at 6:30 for all age groups.  Kids\, Teens\, and Adults! Great for families
URL:https://hopeunited.digitalchurch.app/event/the-table/2027-07-07/
END:VEVENT
BEGIN:VEVENT
DTSTART;TZID=America/New_York:20270711T110000
DTEND;TZID=America/New_York:20270711T123000
DTSTAMP:20260420T180301
CREATED:20220819T152311Z
LAST-MODIFIED:20220819T152311Z
UID:11484-1815303600-1815309000@hopeunited.digitalchurch.app
SUMMARY:Sunday morning Worship!
DESCRIPTION:
URL:https://hopeunited.digitalchurch.app/event/sunday-morning-worship/2027-07-11/
LOCATION:Sanctuary\, 499 Trebisky Rd\, Richmond Heights\, OH\, 44143\, United States
END:VEVENT
BEGIN:VEVENT
DTSTART;TZID=America/New_York:20270714T180000
DTEND;TZID=America/New_York:20270714T193000
DTSTAMP:20260420T180301
CREATED:20220819T152823Z
LAST-MODIFIED:20220819T152823Z
UID:11485-1815588000-1815593400@hopeunited.digitalchurch.app
SUMMARY:THE TABLE
DESCRIPTION:Dinner at 6 pm and a bible study that starts at 6:30 for all age groups.  Kids\, Teens\, and Adults! Great for families
URL:https://hopeunited.digitalchurch.app/event/the-table/2027-07-14/
END:VEVENT
BEGIN:VEVENT
DTSTART;TZID=America/New_York:20270718T110000
DTEND;TZID=America/New_York:20270718T123000
DTSTAMP:20260420T180301
CREATED:20220819T152311Z
LAST-MODIFIED:20220819T152311Z
UID:11486-1815908400-1815913800@hopeunited.digitalchurch.app
SUMMARY:Sunday morning Worship!
DESCRIPTION:
URL:https://hopeunited.digitalchurch.app/event/sunday-morning-worship/2027-07-18/
LOCATION:Sanctuary\, 499 Trebisky Rd\, Richmond Heights\, OH\, 44143\, United States
END:VEVENT
BEGIN:VEVENT
DTSTART;TZID=America/New_York:20270721T180000
DTEND;TZID=America/New_York:20270721T193000
DTSTAMP:20260420T180301
CREATED:20220819T152823Z
LAST-MODIFIED:20220819T152823Z
UID:11487-1816192800-1816198200@hopeunited.digitalchurch.app
SUMMARY:THE TABLE
DESCRIPTION:Dinner at 6 pm and a bible study that starts at 6:30 for all age groups.  Kids\, Teens\, and Adults! Great for families
URL:https://hopeunited.digitalchurch.app/event/the-table/2027-07-21/
END:VEVENT
BEGIN:VEVENT
DTSTART;TZID=America/New_York:20270725T110000
DTEND;TZID=America/New_York:20270725T123000
DTSTAMP:20260420T180301
CREATED:20220819T152311Z
LAST-MODIFIED:20220819T152311Z
UID:11488-1816513200-1816518600@hopeunited.digitalchurch.app
SUMMARY:Sunday morning Worship!
DESCRIPTION:
URL:https://hopeunited.digitalchurch.app/event/sunday-morning-worship/2027-07-25/
LOCATION:Sanctuary\, 499 Trebisky Rd\, Richmond Heights\, OH\, 44143\, United States
END:VEVENT
BEGIN:VEVENT
DTSTART;TZID=America/New_York:20270728T180000
DTEND;TZID=America/New_York:20270728T193000
DTSTAMP:20260420T180301
CREATED:20220819T152823Z
LAST-MODIFIED:20220819T152823Z
UID:11489-1816797600-1816803000@hopeunited.digitalchurch.app
SUMMARY:THE TABLE
DESCRIPTION:Dinner at 6 pm and a bible study that starts at 6:30 for all age groups.  Kids\, Teens\, and Adults! Great for families
URL:https://hopeunited.digitalchurch.app/event/the-table/2027-07-28/
END:VEVENT
END:VCALENDAR