BEGIN:VCALENDAR
VERSION:2.0
PRODID:-//Hope United Church - ECPv6.6.4//NONSGML v1.0//EN
CALSCALE:GREGORIAN
METHOD:PUBLISH
X-ORIGINAL-URL:https://hopeunited.digitalchurch.app
X-WR-CALDESC:Events for Hope United Church
REFRESH-INTERVAL;VALUE=DURATION:PT1H
X-Robots-Tag:noindex
X-PUBLISHED-TTL:PT1H
BEGIN:VTIMEZONE
TZID:America/New_York
BEGIN:DAYLIGHT
TZOFFSETFROM:-0500
TZOFFSETTO:-0400
TZNAME:EDT
DTSTART:20280312T070000
END:DAYLIGHT
BEGIN:STANDARD
TZOFFSETFROM:-0400
TZOFFSETTO:-0500
TZNAME:EST
DTSTART:20281105T060000
END:STANDARD
END:VTIMEZONE
BEGIN:VEVENT
DTSTART;TZID=America/New_York:20280102T110000
DTEND;TZID=America/New_York:20280102T123000
DTSTAMP:20260422T203029
CREATED:20220819T152311Z
LAST-MODIFIED:20220819T152311Z
UID:11534-1830423600-1830429000@hopeunited.digitalchurch.app
SUMMARY:Sunday morning Worship!
DESCRIPTION:
URL:https://hopeunited.digitalchurch.app/event/sunday-morning-worship/2028-01-02/
LOCATION:Sanctuary\, 499 Trebisky Rd\, Richmond Heights\, OH\, 44143\, United States
END:VEVENT
BEGIN:VEVENT
DTSTART;TZID=America/New_York:20280105T180000
DTEND;TZID=America/New_York:20280105T193000
DTSTAMP:20260422T203029
CREATED:20220819T152823Z
LAST-MODIFIED:20220819T152823Z
UID:11535-1830708000-1830713400@hopeunited.digitalchurch.app
SUMMARY:THE TABLE
DESCRIPTION:Dinner at 6 pm and a bible study that starts at 6:30 for all age groups.  Kids\, Teens\, and Adults! Great for families
URL:https://hopeunited.digitalchurch.app/event/the-table/2028-01-05/
END:VEVENT
BEGIN:VEVENT
DTSTART;TZID=America/New_York:20280109T110000
DTEND;TZID=America/New_York:20280109T123000
DTSTAMP:20260422T203029
CREATED:20220819T152311Z
LAST-MODIFIED:20220819T152311Z
UID:11536-1831028400-1831033800@hopeunited.digitalchurch.app
SUMMARY:Sunday morning Worship!
DESCRIPTION:
URL:https://hopeunited.digitalchurch.app/event/sunday-morning-worship/2028-01-09/
LOCATION:Sanctuary\, 499 Trebisky Rd\, Richmond Heights\, OH\, 44143\, United States
END:VEVENT
BEGIN:VEVENT
DTSTART;TZID=America/New_York:20280112T180000
DTEND;TZID=America/New_York:20280112T193000
DTSTAMP:20260422T203029
CREATED:20220819T152823Z
LAST-MODIFIED:20220819T152823Z
UID:11537-1831312800-1831318200@hopeunited.digitalchurch.app
SUMMARY:THE TABLE
DESCRIPTION:Dinner at 6 pm and a bible study that starts at 6:30 for all age groups.  Kids\, Teens\, and Adults! Great for families
URL:https://hopeunited.digitalchurch.app/event/the-table/2028-01-12/
END:VEVENT
BEGIN:VEVENT
DTSTART;TZID=America/New_York:20280116T110000
DTEND;TZID=America/New_York:20280116T123000
DTSTAMP:20260422T203029
CREATED:20220819T152311Z
LAST-MODIFIED:20220819T152311Z
UID:11538-1831633200-1831638600@hopeunited.digitalchurch.app
SUMMARY:Sunday morning Worship!
DESCRIPTION:
URL:https://hopeunited.digitalchurch.app/event/sunday-morning-worship/2028-01-16/
LOCATION:Sanctuary\, 499 Trebisky Rd\, Richmond Heights\, OH\, 44143\, United States
END:VEVENT
BEGIN:VEVENT
DTSTART;TZID=America/New_York:20280119T180000
DTEND;TZID=America/New_York:20280119T193000
DTSTAMP:20260422T203029
CREATED:20220819T152823Z
LAST-MODIFIED:20220819T152823Z
UID:11539-1831917600-1831923000@hopeunited.digitalchurch.app
SUMMARY:THE TABLE
DESCRIPTION:Dinner at 6 pm and a bible study that starts at 6:30 for all age groups.  Kids\, Teens\, and Adults! Great for families
URL:https://hopeunited.digitalchurch.app/event/the-table/2028-01-19/
END:VEVENT
BEGIN:VEVENT
DTSTART;TZID=America/New_York:20280123T110000
DTEND;TZID=America/New_York:20280123T123000
DTSTAMP:20260422T203029
CREATED:20220819T152311Z
LAST-MODIFIED:20220819T152311Z
UID:11540-1832238000-1832243400@hopeunited.digitalchurch.app
SUMMARY:Sunday morning Worship!
DESCRIPTION:
URL:https://hopeunited.digitalchurch.app/event/sunday-morning-worship/2028-01-23/
LOCATION:Sanctuary\, 499 Trebisky Rd\, Richmond Heights\, OH\, 44143\, United States
END:VEVENT
BEGIN:VEVENT
DTSTART;TZID=America/New_York:20280126T180000
DTEND;TZID=America/New_York:20280126T193000
DTSTAMP:20260422T203029
CREATED:20220819T152823Z
LAST-MODIFIED:20220819T152823Z
UID:11541-1832522400-1832527800@hopeunited.digitalchurch.app
SUMMARY:THE TABLE
DESCRIPTION:Dinner at 6 pm and a bible study that starts at 6:30 for all age groups.  Kids\, Teens\, and Adults! Great for families
URL:https://hopeunited.digitalchurch.app/event/the-table/2028-01-26/
END:VEVENT
BEGIN:VEVENT
DTSTART;TZID=America/New_York:20280130T110000
DTEND;TZID=America/New_York:20280130T123000
DTSTAMP:20260422T203029
CREATED:20220819T152311Z
LAST-MODIFIED:20220819T152311Z
UID:11542-1832842800-1832848200@hopeunited.digitalchurch.app
SUMMARY:Sunday morning Worship!
DESCRIPTION:
URL:https://hopeunited.digitalchurch.app/event/sunday-morning-worship/2028-01-30/
LOCATION:Sanctuary\, 499 Trebisky Rd\, Richmond Heights\, OH\, 44143\, United States
END:VEVENT
END:VCALENDAR